BEGIN:VCALENDAR
VERSION:2.0
PRODID:Festa de Santo Antonio
X-WR-CALNAME:Festa de Santo Antonio
X-WR-TIMEZONE:Europe/Lisbon
X-PUBLISHED-TTL:P1W
BEGIN:VTIMEZONE
TZID:Europe/Lisbon
X-LIC-LOCATION:Europe/Lisbon
END:VTIMEZONE
BEGIN:VEVENT
UID:69eb76e770763
DTSTART;VALUE=DATE:20260612
SEQUENCE:0
TRANSP:OPAQUE
DTEND;VALUE=DATE:20260613
SUMMARY:Festa de Santo Antonio
CLASS:PUBLIC
DESCRIPTION:Festa de Santo Antonio - 2026
X-MICROSOFT-CDO-ALLDAYEVENT:TRUE
DTSTAMP:20260424T135759Z
END:VEVENT
END:VCALENDAR